BEGIN:VCALENDAR
VERSION:2.0
PRODID:-//Pexeso - ECPv6.6.2//NONSGML v1.0//EN
CALSCALE:GREGORIAN
METHOD:PUBLISH
X-WR-CALNAME:Pexeso
X-ORIGINAL-URL:https://marcela.pexeso.org
X-WR-CALDESC:Akce na Pexeso
REFRESH-INTERVAL;VALUE=DURATION:PT1H
X-Robots-Tag:noindex
X-PUBLISHED-TTL:PT1H
BEGIN:VTIMEZONE
TZID:Europe/Prague
BEGIN:DAYLIGHT
TZOFFSETFROM:+0100
TZOFFSETTO:+0200
TZNAME:CEST
DTSTART:20240331T010000
END:DAYLIGHT
BEGIN:STANDARD
TZOFFSETFROM:+0200
TZOFFSETTO:+0100
TZNAME:CET
DTSTART:20241027T010000
END:STANDARD
END:VTIMEZONE
BEGIN:VEVENT
DTSTART;TZID=Europe/Prague:20240504T100000
DTEND;TZID=Europe/Prague:20240504T170000
DTSTAMP:20260424T173649
CREATED:20240409T151930Z
LAST-MODIFIED:20240409T151930Z
UID:6442-1714816800-1714842000@marcela.pexeso.org
SUMMARY:PARKOUROVÝ workshop - celodenní akce pro školáky od 6-15let
DESCRIPTION:Během dne si účastníci workshopu budou zkoušet nejen překážkové dráhy a základy přeskoků\, ale dozví se i mnoho zajímavého o pohybu pod vedením skvělých\, zkušených trenérů z projektu Ulice dětem – Marka Tomana\, příp. i Daniela Lacka. Trénovat se bude v Pexesu v tělocvičně i na zahradě\, příp na workout. hřišti či v jeho blízkosti \nREZERVACE NUTNÁ\, cena včetně oběda
URL:https://marcela.pexeso.org/akce/parkourovy-workshop-celodenni-akce-pro-skolaky-od-6-15let/
LOCATION:Pexeso\, Žabovřeská 1227\, Praha 5 - Zbraslav\, 156 00
ATTACH;FMTTYPE=image/jpeg:https://marcela.pexeso.org/wp-content/uploads/2024/03/parkour1.jpeg
END:VEVENT
BEGIN:VEVENT
DTSTART;TZID=Europe/Prague:20240506T080000
DTEND;TZID=Europe/Prague:20240507T163000
DTSTAMP:20260424T173649
CREATED:20240409T153339Z
LAST-MODIFIED:20240409T153529Z
UID:6445-1714982400-1715099400@marcela.pexeso.org
SUMMARY:SPORTOVNÍ PROGRAM pro školáky 6. a 7. 5. v době ředit. volna\, i jednotl. dny
DESCRIPTION:Zůstáváte doma v době ředitelského volna po 6.+ út 7.5. ?\nPřijďte si užít sportovní aktivity a hry s výlety na boulder lezeckou stěnu a do barrandovského Aquaparku s lektorem atletiky a táborů Jirkou Faflákem \nMožnost přihlášení i na jednotl. dny za cenu 700Kč/den včetně vstupů\, obědy a pití zajištěny\, REZERVACE NUTNÁ
URL:https://marcela.pexeso.org/akce/sportovni-program-pro-skolaky-6-a-7-5-v-dobe-redit-volna-i-jednotl-dny/
LOCATION:Pexeso\, Žabovřeská 1227\, Praha 5 - Zbraslav\, 156 00
CATEGORIES:Akce komunitního centra
ATTACH;FMTTYPE=image/jpeg:https://marcela.pexeso.org/wp-content/uploads/2024/03/ostep.jpeg
END:VEVENT
BEGIN:VEVENT
DTSTART;TZID=Europe/Prague:20240512T100000
DTEND;TZID=Europe/Prague:20240512T170000
DTSTAMP:20260424T173649
CREATED:20240409T193015Z
LAST-MODIFIED:20240418T201003Z
UID:6450-1715508000-1715533200@marcela.pexeso.org
SUMMARY:Sváteční burza s piknikem na Den matek
DESCRIPTION:Udělejte si radost na Den matek novým kouskem do šatníku!  \nCo se ostatním už nehodí\, vás může za rozumné peníze potěšit. Burza letního oblečení\, hraček a potřeb pro děti proběhne druhou květnovou neděli. Vaše děti se mohou těšit na zajištěný program a vás tak čeká ničím nerušené nakupování\, nebo třeba káva s kamarádkou. Přijďte prodat\, co už nepotřebujete\, nakoupit místo toho nové kousky a strávit příjemný čas s ostatními maminkami. Jsme zvědaví\, kdo na piknik přinese nejchutnější koláč nebo jinou domácí specialitu!\n \nÚčast zdarma\, HOTOVOST (hlavně drobné peníze) NA NÁKUP S SEBOU.  \nZajímá Tě\, jak bude burza organizována a co potřebuješ pro účast? \n⇒INFORMACE A PŘIHLÁŠENÍ ZDE ⇐ \n 
URL:https://marcela.pexeso.org/akce/svatecni-burza-s-piknikem-na-den-matek/
LOCATION:Pexeso\, Žabovřeská 1227\, Praha 5 - Zbraslav\, 156 00
ATTACH;FMTTYPE=image/png:https://marcela.pexeso.org/wp-content/uploads/2024/04/Burza_Pexeso-2024_letak_20240418_213934_0000.png
END:VEVENT
BEGIN:VEVENT
DTSTART;TZID=Europe/Prague:20240514T090000
DTEND;TZID=Europe/Prague:20240514T103000
DTSTAMP:20260424T173649
CREATED:20240402T083921Z
LAST-MODIFIED:20240418T195646Z
UID:6293-1715677200-1715682600@marcela.pexeso.org
SUMMARY:Hranice ve výchově - přednáška pro rodiče s možností hlídání dětí
DESCRIPTION:Přednáška se bude věnovat důležitosti hranic ve výchově. K čemu jsou dobré a proč je děti potřebují. \nDále:\n– jak vhodně nastavit a držet hranice úměrně věku dítěte\n– pochvaly\, tresty a odměny ve výchově\n– vedení k samostatnosti a zodpovědnosti\, společné vytváření pravidel\n– výchovně náročné situace\n– laskavá důslednost \nPo skončení přednášky bude 30 minutový prostor pro vaše dotazy. \nREZERVACE NUTNÁ. \nV případě zájmu o hlídání dětí\, prosíme\, kontaktujte recepci. Za hlídání 1 dítěte si dovolíme účtovat 50\,- Kč.\nAktivita podpořena z dotačního programu Vyšší rodinná (MPSV a MHMP). \nVíce info a registrace zde
URL:https://marcela.pexeso.org/akce/hranice-ve-vychove-prednaska-pro-rodice-s-moznosti-hlidani-deti/
LOCATION:Pexeso\, Žabovřeská 1227\, Praha 5 - Zbraslav\, 156 00
ATTACH;FMTTYPE=image/jpeg:https://marcela.pexeso.org/wp-content/uploads/2024/04/HRANICE-VE-VYCHOVE.jpg
END:VEVENT
BEGIN:VEVENT
DTSTART;TZID=Europe/Prague:20240519T100000
DTEND;TZID=Europe/Prague:20240519T170000
DTSTAMP:20260424T173649
CREATED:20240422T110951Z
LAST-MODIFIED:20240515T150751Z
UID:6548-1716112800-1716138000@marcela.pexeso.org
SUMMARY:VÝTVARNÁ DÍLNA  celý den pro školáky 6-17 let
DESCRIPTION:Zaměření celodenního workshopu bude na výtvarné sebevyjádření a získání schopnosti komunikovat vlastní tvorbou\, s důrazem na povzbuzení originality a autenticity. Výstupem budou vlastnoručně zapaspartované náladové a lehce zlatě patinované obrázky\, kdo si troufne i reliéfní… Slíbit můžeme i hudební chvilky\, kterými lektorka Petra Vychytilová zpestřuje výtvarníkům tvoření.  REZERVACE NUTNÁ nejpozději do 17. 5. 12.00h
URL:https://marcela.pexeso.org/akce/vytvarna-dilna-cely-den-pro-skolaky-6-17-let/
CATEGORIES:Akce komunitního centra
ATTACH;FMTTYPE=image/jpeg:https://marcela.pexeso.org/wp-content/uploads/2024/03/vytv.jpeg
END:VEVENT
BEGIN:VEVENT
DTSTART;TZID=Europe/Prague:20240521T190000
DTEND;TZID=Europe/Prague:20240521T203000
DTSTAMP:20260424T173649
CREATED:20240430T083219Z
LAST-MODIFIED:20240516T081750Z
UID:6688-1716318000-1716323400@marcela.pexeso.org
SUMMARY:Zdravotní cvičení zaměřené na pánevní dno pro ženy všech věků
DESCRIPTION:15 min teoretický úvod\n60 min v klidném tempu – ženy se naučí cviky se zaměřením na\n– pánevní dno\n– rozhýbání kyčlí\n– protažení zad\n– prevenci inkontinence \nVšechny účastnice dostanou online sestavu i na doma. Využijeme masážní ježky. \nNení vhodné pro těhotné a maminky méně než 3 měsíce po porodu. \nCena 250\,- Kč. REZERVACE NUTNÁ
URL:https://marcela.pexeso.org/akce/zdravotni-cviceni-zamerene-na-panevni-dno-pro-zeny-nejen-v-menopauze/
LOCATION:Pexeso\, Žabovřeská 1227\, Praha 5 - Zbraslav\, 156 00
CATEGORIES:Akce komunitního centra
ATTACH;FMTTYPE=image/jpeg:https://marcela.pexeso.org/wp-content/uploads/2023/11/portfolio3.jpg
END:VEVENT
BEGIN:VEVENT
DTSTART;TZID=Europe/Prague:20240523T173000
DTEND;TZID=Europe/Prague:20240523T190000
DTSTAMP:20260424T173649
CREATED:20240417T142524Z
LAST-MODIFIED:20240418T102646Z
UID:6517-1716485400-1716490800@marcela.pexeso.org
SUMMARY:seminář TÍŽIVÉ POCITY VINY
DESCRIPTION:Volné pokračování pravidelných setkávání s tématy dotýkajícími se naší duše.  Seminářem Vás opět provede Mgr. Eliška Dvořáková. \n\n\nTentokrát si budeme povídat na téma vina.\n– Kdy přicházejí pocity viny a studu\n– Co je vina a co zodpovědnost\n– Pocit viny versus pocit vnitřní svobody\n\n  \nPo skončení přednášky bude 30 minutový prostor pro vaše dotazy. \nREZERVACE NUTNÁ. \nAktivita podpořena z dotačního programu Vyšší rodinná (MPSV a MHMP). \nVíce info a registrace zde
URL:https://marcela.pexeso.org/akce/seminar-tizive-pocity-viny/
LOCATION:Pexeso\, Žabovřeská 1227\, Praha 5 - Zbraslav\, 156 00
ATTACH;FMTTYPE=image/jpeg:https://marcela.pexeso.org/wp-content/uploads/2024/04/Tizive-pocity-viny.jpg
END:VEVENT
BEGIN:VEVENT
DTSTART;TZID=Europe/Prague:20240525T090000
DTEND;TZID=Europe/Prague:20240525T113000
DTSTAMP:20260424T173649
CREATED:20240315T082403Z
LAST-MODIFIED:20240411T082410Z
UID:4589-1716627600-1716636600@marcela.pexeso.org
SUMMARY:Atletický závod pro děti 5 - 12 let
DESCRIPTION:5 stanovišť : sprint\, hod\, skok\, \npřeskoky\, běh \n  \n  \n3 věkové kategorie \ndiplomy\, ceny \nPřihlášky na radka.hanakova@pexeso.org / jméno a rok narození dítěte/
URL:https://marcela.pexeso.org/akce/atleticky-zavod-pro-deti-5-12-let/
LOCATION:ZŠ V. Vančury\, Nad Parkem 1180\, Zbraslav\, Česká republika
CATEGORIES:Akce komunitního centra
ATTACH;FMTTYPE=image/jpeg:https://marcela.pexeso.org/wp-content/uploads/2024/03/atleticky-zavod.jpg
END:VEVENT
END:VCALENDAR