BEGIN:VCALENDAR
VERSION:2.0
PRODID:-//Pexeso - ECPv6.6.2//NONSGML v1.0//EN
CALSCALE:GREGORIAN
METHOD:PUBLISH
X-WR-CALNAME:Pexeso
X-ORIGINAL-URL:https://marcela.pexeso.org
X-WR-CALDESC:Akce na Pexeso
REFRESH-INTERVAL;VALUE=DURATION:PT1H
X-Robots-Tag:noindex
X-PUBLISHED-TTL:PT1H
BEGIN:VTIMEZONE
TZID:Europe/Prague
BEGIN:DAYLIGHT
TZOFFSETFROM:+0100
TZOFFSETTO:+0200
TZNAME:CEST
DTSTART:20240331T010000
END:DAYLIGHT
BEGIN:STANDARD
TZOFFSETFROM:+0200
TZOFFSETTO:+0100
TZNAME:CET
DTSTART:20241027T010000
END:STANDARD
END:VTIMEZONE
BEGIN:VEVENT
DTSTART;TZID=Europe/Prague:20240616T160000
DTEND;TZID=Europe/Prague:20240616T180000
DTSTAMP:20260424T173634
CREATED:20240612T150954Z
LAST-MODIFIED:20240612T150954Z
UID:6991-1718553600-1718560800@marcela.pexeso.org
SUMMARY:GoKids v akci pro 3-6leté děti
DESCRIPTION:Děti si zasportují\, něco hezkého vytvoří a vyzkouší si Montessori aktivity. Během akce se bude mluvit Anglicky a rodiče mohou nebo nemusí být přítomni. V případě hezkého počasí budeme venku na zahradě.\nPro současné studenty GoKids English je akce zdarma (nahrazuje 2 zmeškané lekce).\nMaximální kapacita 10 účastníků. \nRezervujte si své místo.:-) \nKDY: 16.6. 16:00-18:00\nCENA: 300 Kč
URL:https://marcela.pexeso.org/akce/gokids-v-akci-pro-3-6lete-deti/
LOCATION:Pexeso\, Žabovřeská 1227\, Praha 5 - Zbraslav\, 156 00
CATEGORIES:Akce komunitního centra
ATTACH;FMTTYPE=image/jpeg:https://marcela.pexeso.org/wp-content/uploads/2024/04/IMG_20230927_151110129.jpg
END:VEVENT
END:VCALENDAR