BEGIN:VCALENDAR
VERSION:2.0
PRODID:-//Pexeso - ECPv6.6.2//NONSGML v1.0//EN
CALSCALE:GREGORIAN
METHOD:PUBLISH
X-WR-CALNAME:Pexeso
X-ORIGINAL-URL:https://marcela.pexeso.org
X-WR-CALDESC:Akce na Pexeso
REFRESH-INTERVAL;VALUE=DURATION:PT1H
X-Robots-Tag:noindex
X-PUBLISHED-TTL:PT1H
BEGIN:VTIMEZONE
TZID:Europe/Prague
BEGIN:DAYLIGHT
TZOFFSETFROM:+0100
TZOFFSETTO:+0200
TZNAME:CEST
DTSTART:20240331T010000
END:DAYLIGHT
BEGIN:STANDARD
TZOFFSETFROM:+0200
TZOFFSETTO:+0100
TZNAME:CET
DTSTART:20241027T010000
END:STANDARD
END:VTIMEZONE
BEGIN:VEVENT
DTSTART;TZID=Europe/Prague:20240430T153000
DTEND;TZID=Europe/Prague:20240430T170000
DTSTAMP:20260424T190154
CREATED:20240416T111720Z
LAST-MODIFIED:20240416T112846Z
UID:6492-1714491000-1714496400@marcela.pexeso.org
SUMMARY:Čarodějnická stezka s Pexesem a Hasiči Praha-Zbraslav
DESCRIPTION:Oprašte čarodějnický hábit a proleťte se s námi… \n…do čarodějnického lesoparku Borovičky\, kde na jednotlivých stanovištích potkáte čarodějnice\, čaroděje\, kteří se na Vás už moc těší!!! Na děti budou čekat zajímavé úkoly\, jak vědomostní\, tak i pohybové\, které po zaslouženém výkonu dostanou odměnu. Snaha se musí ocenit\, ale i odvaha!! A  proto\, každý účastník je pohlazen drobnou odměnou 🙂\nCÍL je letos opět v HASIČSKÉ ZBROJNICI (Nad Kamínkou 1197). Zde proběhne  zábavný doprovodný program\, tvořivá čaro dílna\, skákací hrad\, prohlídka\nhasičské techniky\, odměny\, buřty pro děti zdarma\, občerstvení (růžové  autíčko paní Mandíkové a její skvělé domácí dezerty\, limo\, káva // paní  Andrea s palačinkami // kluci Martin a Marek s hot dog\, burgery\, aj.).\nOheň pro opékání buřtů plápolá v cíli na Baních (15:30-20:00 hod.).\n Vatra se zapaluje v 17:30 hodin. \n \n 
URL:https://marcela.pexeso.org/akce/carodejnicka-stezka-s-pexesem-a-hasici-praha-zbraslav/
LOCATION:Start od restaurace Nad Kamínkou 1523
CATEGORIES:Akce komunitního centra
ATTACH;FMTTYPE=image/jpeg:https://marcela.pexeso.org/wp-content/uploads/2024/04/Carodejnicka_stezka_2024_tisk_fin.jpg
END:VEVENT
END:VCALENDAR