BEGIN:VCALENDAR
VERSION:2.0
PRODID:-//Pexeso - ECPv6.6.2//NONSGML v1.0//EN
CALSCALE:GREGORIAN
METHOD:PUBLISH
X-WR-CALNAME:Pexeso
X-ORIGINAL-URL:https://marcela.pexeso.org
X-WR-CALDESC:Akce na Pexeso
REFRESH-INTERVAL;VALUE=DURATION:PT1H
X-Robots-Tag:noindex
X-PUBLISHED-TTL:PT1H
BEGIN:VTIMEZONE
TZID:Europe/Prague
BEGIN:DAYLIGHT
TZOFFSETFROM:+0100
TZOFFSETTO:+0200
TZNAME:CEST
DTSTART:20240331T010000
END:DAYLIGHT
BEGIN:STANDARD
TZOFFSETFROM:+0200
TZOFFSETTO:+0100
TZNAME:CET
DTSTART:20241027T010000
END:STANDARD
END:VTIMEZONE
BEGIN:VEVENT
DTSTART;TZID=Europe/Prague:20240429T171500
DTEND;TZID=Europe/Prague:20240429T194500
DTSTAMP:20260424T190136
CREATED:20240327T152709Z
LAST-MODIFIED:20240327T153336Z
UID:6178-1714410900-1714419900@marcela.pexeso.org
SUMMARY:LINORYT DÍLNA s potiskem triček - pro školáky od 9let i dospělé
DESCRIPTION:Vytvořte si originální obrázky – šablony\, které pak můžete v černobílé variantě natisknout nejen na papír (jako obrázek) ale i na vlastní trička či tašku.\nVyužijte příležitost sami vytvořit dárky pro své blízké\, nebo sobě pro radost.\nKonec workshopu je možný i dříve\, dle dokončení práce.  REZERVACE NUTNÁ – nejpozději do 25.5. \n \n 
URL:https://marcela.pexeso.org/akce/linoryt-dilna-s-potiskem-tricek-pro-skolaky-od-9let-i-dospele/
LOCATION:Pexeso\, Žabovřeská 1227\, Praha 5 - Zbraslav\, 156 00
CATEGORIES:Akce komunitního centra
ATTACH;FMTTYPE=image/jpeg:https://marcela.pexeso.org/wp-content/uploads/2024/03/linoryt-1.jpeg
END:VEVENT
END:VCALENDAR