BEGIN:VCALENDAR
VERSION:2.0
PRODID:-//Pexeso - ECPv6.6.2//NONSGML v1.0//EN
CALSCALE:GREGORIAN
METHOD:PUBLISH
X-WR-CALNAME:Pexeso
X-ORIGINAL-URL:https://marcela.pexeso.org
X-WR-CALDESC:Akce na Pexeso
REFRESH-INTERVAL;VALUE=DURATION:PT1H
X-Robots-Tag:noindex
X-PUBLISHED-TTL:PT1H
BEGIN:VTIMEZONE
TZID:Europe/Prague
BEGIN:DAYLIGHT
TZOFFSETFROM:+0100
TZOFFSETTO:+0200
TZNAME:CEST
DTSTART:20240331T010000
END:DAYLIGHT
BEGIN:STANDARD
TZOFFSETFROM:+0200
TZOFFSETTO:+0100
TZNAME:CET
DTSTART:20241027T010000
END:STANDARD
END:VTIMEZONE
BEGIN:VEVENT
DTSTART;TZID=Europe/Prague:20240421T100000
DTEND;TZID=Europe/Prague:20240421T170000
DTSTAMP:20260424T203212
CREATED:20240327T135418Z
LAST-MODIFIED:20240327T135418Z
UID:6138-1713693600-1713718800@marcela.pexeso.org
SUMMARY:VÝTVARNÁ DÍLNA  celý den - pro školáky 7-17 let
DESCRIPTION:Na celodenním workshopu budeme mít dost času vyzkoušet nové zajímavé\,  zajímavé techniky malování. Slíbit můžeme i hudební chvilky\, kterými naše lektorka Petra Vychytilová zpestřuje výtvarníkům tvoření. \nREZERVACE NUTNÁ nejpozději do 18. 4.\, vstupné je včetně materiálu\, jídlo a ušpinitelné oblečení s sebou \n \n 
URL:https://marcela.pexeso.org/akce/vytvarna-dilna-cely-den-pro-skolaky-7-17-let/
LOCATION:Pexeso\, Žabovřeská 1227\, Praha 5 - Zbraslav\, 156 00
CATEGORIES:Akce komunitního centra
ATTACH;FMTTYPE=image/jpeg:https://marcela.pexeso.org/wp-content/uploads/2024/03/vytvar-1.jpeg
END:VEVENT
END:VCALENDAR